Workbook

Sheet 表紙
A1: 【様式15】
A14: 久留米競輪場再整備に係る施工予定者選定公募型プロポーザル ＶＥ提案採用後概算工事費見積内訳書
C40: 所在地
C41: 商号又は名称
C42: 代表者氏名 | K42: 印

Sheet A.概算工事費見積　ステップ区分表
B1: 概算工事費見積 ステップ区分表
B3: 通し番号 | C3: 配置図 番号 | D3: 名称 | E3: 規格・寸法 | F3: 数量 | G3: 単位 | I3: 備考
H4: 概算工事費 （円）
B5: Ⅰ-1 | D5: ステップ１ | F5: 1 | G5: 式
D6: 仮設・改修工事
B7: 1-1 | C7: C-① | D7: 正源氏プラザ改修 | F7: 1 | G7: 式 | I7: 22.地域サイクルコミュニティセンター
B9: Ⅰ-2 | D9: ステップ２ | F9: 1 | G9: 式
D10: 解体工事
B11: 2-1 | C11: 1 | D11: メイン特別観覧席 | F11: 1 | G11: 式
B12: 2-2 | C12: 2 | D12: メインスタンド、下記者席、実況放送室 | F12: 1 | G12: 式 | I12: 下記者席(2a)、実況放送室(2A)
B13: 2-3 | C13: 3 | D13: バックスタンド | F13: 1 | G13: 式
B14: 2-4 | C14: 3a | D14: バック下特別観覧席 | F14: 1 | G14: 式
B15: 2-5 | C15: 3b | D15: 第5・6発券所 | F15: 1 | G15: 式
B16: 2-6 | C16: 4 | D16: 選手宿舎付近電気室 | F16: 1 | G16: 式
B17: 2-7 | C17: 5 | D17: 審判塔 | F17: 1 | G17: 式
B18: 2-8 | C18: 7 | D18: サイドスタンド（アザレア） | F18: 1 | G18: 式
B19: 2-9 | C19: 8 | D19: 消防員詰所（倉庫） | F19: 1 | G19: 式
B20: 2-10 | C20: 9 | D20: 選手宿舎 | F20: 1 | G20: 式
B21: 2-11 | C21: 10 | D21: 新サイドスタンド・第2券売所 | F21: 1 | G21: 式
B22: 2-12 | C22: 11 | D22: 休憩所（あずまや） | F22: 1 | G22: 式
B23: 2-13 | C23: 14 | D23: メインスタンド付近湯茶接待所 | F23: 1 | G23: 式
B24: 2-14 | C24: 15 | D24: 選手宿舎入口警備詰所 | F24: 1 | G24: 式
B25: 2-15 | C25: 17 | D25: 南門入場券売場 | F25: 1 | G25: 式
B26: 2-16 | C26: 19 | D26: 敢闘門渡り廊下 | F26: 1 | G26: 式
B27: 2-17 | C27: 20 | D27: 管理人宿直室 | F27: 1 | G27: 式
... B49: 2-39 | C49: 57 | D49: バスUターン警備詰所 | F49: 1 | G49: 式
B50: 2-40 | C50: - | D50: 大型映像装置 | F50: 1 | G50: 式 | I50: 屋外(サービスセンター付近)
B51: 2-41 | C51: - | D51: 大型機器撤去 | F51: 1 | G51: 式 | I51: T01.設備機器解体撤去リスト
B52: 2-42 | C52: - | D52: アスベスト除去 | F52: 1 | G52: 式 | I52: T03.アスベスト除去計画図
B54: Ⅰ-3 | D54: ステップ３ | F54: 1 | G54: 式
D55: 新築工事
B56: 3-1 | C56: A-② | D56: 選手宿舎・管理棟 | F56: 1 | G56: 式
B57: 3-2a | C57: A-① | D57: メインスタンド棟 | F57: 1 | G57: 式 | I57: ZEB-Ready対応
B58: 3-3 | C58: A-③ | D58: 食堂棟 | F58: 1 | G58: 式
B59: 3-2b | C59: A-① | D59: メインスタンド大屋根 | F59: 1 | G59: 式 | I59: A09-2-3.地下1階,屋上階平面図(メインスタンド棟)
B60: 3-2c | C60: A-① | D60: 屋外観客席 | F60: 1 | G60: 式 | I60: A09-2-1.1階平面図(メインスタンド棟)
B61: 3-2d | C61: - | D61: 基礎撤去部分埋め戻し土 | F61: 1 | G61: 式 | I61: L11.切土・盛土範囲図
B62: 3-4 | C62: - | D62: 西エリア、東エリア（一部）外構整備 | F62: 1 | G62: 式 | I62: L13.工事ステップ図：西エリア、東エリア（一部）外構整備
B63: 3-5 | C63: A-④ | D63: アマチュア道場 | F63: 1 | G63: 式
B64: 3-6 | C64: A-⑤ | D64: 地元ハードケース置場 | F64: 1 | G64: 式
...

Sheet B.工事費内訳
B1: 工事費内訳 | F1: 1
B2: 【 参 考 内 訳 書 式 】
B4: 名 称 | C4: 数 量 | D4: 単 位 | E4: 金 額 | F4: 備 考
B7: ■本書式に記載のない事項、積算要領については、見積要項書及び見積要項書に示す標準仕様書群等による。標準仕様書群等は最新のものを使用すること。
B9: ・原則、設計図書より数量を算出し計上すること。（一式金額とはせず 数量 X 単価 = 金額 で算出する。）
B10: ・工事請負契約後、内訳書の内容に関わる数量とその根拠について提出を求める場合があります。
B12: 直接工事費
B15: 直接工事費 | F15: 工事種別内訳
C16: 1
D17: 式
B18: 計
B24: 共通費
B27: 共通仮設費
C28: 1
D29: 式
B30: 現場管理費
C31: 1 | E31: 共通仮設費 、現場経費、一般管理費等に区分して記載する。
D32: 式
B33: 一般管理費等
C34: 1
D35: 式
B36: 計
B42: 工事価格
C43: 1
D44: 式
B45: 消費税等相当額
C46: 1
D47: 式
B48: 工事費
C49: 1
D50: 式

Sheet C.工事種別内訳
B1: 工事種別内訳 | F1: =B.工事費内訳!$F$1+1 -> 2
B4: 名 称 | C4: 数 量 | D4: 単 位 | E4: 金 額 | F4: 備 考
B6: ステップ1 | F6: ステップ1 種目別内訳
B7: 改修工事 | C7: 1
D8: 式
B9: ステップ2 | F9: ステップ2 種目別内訳
B10: 解体工事 | C10: 1
D11: 式
B12: ステップ3 | F12: ステップ3 種目別内訳
B13: 新築工事 | C13: 1 | E13: ステップ区分表参照
D14: 式
B15: ステップ4 | F15: ステップ4 種目別内訳
B16: 解体工事 | C16: 1
D17: 式
B18: ステップ5 | F18: ステップ5 種目別内訳
B19: 外構工事 | C19: 1
D20: 式
B21: 計
B25: ※ステップ区分表の「ステップ」に合わせて記載する。

Sheet D.種目
B1: ステップ1 種目別内訳 | F1: ='C.工事種別内訳'!$F$1+1 -> 3
B4: 名 称 | C4: 数 量 | D4: 単 位 | E4: 金 額 | F4: 備 考
B6: 1-1
B7: 正源氏プラザ改修 | C7: 1
D8: 式
B9: 計
B13: ※ステップ区分表の「名称(建物等)」に合わせて記載する。
B52: ステップ2 種目別内訳 | F52: =$F1+1 -> 4
B55: 名 称 | C55: 数 量 | D55: 単 位 | E55: 金 額 | F55: 備 考
B57: 2-1
B58: (1)メイン特別観覧席 | C58: 1
D59: 式
B60: 2-2
B61: (2)メインスタンド、下記者席、実 | C61: 1
B62: 況放送室 | D62: 式
B63: 2-3
B64: (3)バックスタンド | C64: 1
D65: 式
B66: 2-4
B67: (3a)バック下特別観覧席 | C67: 1
D68: 式
B69: 2-5
B70: (3b)第5・6発券所 | C70: 1
D71: 式
B72: 2-6
B73: (4)選手宿舎付近電気室 | C73: 1
D74: 式
B75: 2-7
B76: (5)審判塔 | C76: 1
D77: 式
B78: 2-8
B79: (7)サイドスタンド（アザレア） | C79: 1
D80: 式
B81: 2-9
B82: (8)消防員詰所（倉庫） | C82: 1
D83: 式
B84: 2-10
B85: (9)選手宿舎 | C85: 1
D86: 式
B87: 2-11
...

Sheet E.科目
B1: ステップ1 科目別内訳 | F1: =D.種目!$F$307+1 -> 10
B2: 1-1正源氏プラザ改修
B4: 名 称 | C4: 数 量 | D4: 単 位 | E4: 金 額 | F4: 備 考
B7: ■工事内容が改修工事の場合
B9: 改修工事 | F9: 細目別内訳
C10: 1
D11: 式
B12: 計
B16: ※ステップ区分表より改修工事を区分し記載する。
B18: （参考）
B19: 正源氏プラザ改修
B53: ステップ2 科目別内訳 | F53: =$F1+1 -> 11
B54: 2-1(1)メイン特別観覧席
B56: 名 称 | C56: 数 量 | D56: 単 位 | E56: 金 額 | F56: 備 考
B59: ■工事内容が解体工事の場合
B61: 解体工事 | F61: 細目別内訳
C62: 1
D63: 式
B64: 計
B68: ※ステップ区分表より解体工事を区分し記載する。(ステップ2・ステップ4共通)
B70: (ステップ2） | C70: (ステップ2） | E70: （ステップ4）
B71: メイン特別観覧席 | C71: 指導員室 | E71: 集計センター前売発券所
B72: メインスタンド、下記者席、実況放送室 | C72: ローラー練習室 | E72: 旧集計センター
B73: バックスタンド | C73: 倉庫（旧浄化槽機械室） | E73: 無停電装置室
B74: バック下特別観覧席 | C74: 参道入口警備詰所 | E74: 選手用自転車置場
B75: 第5・6発券所 | C75: バスUターン警備詰所 | E75: 集計センター付近プレハブ倉庫
B76: 選手宿舎付近電気室 | C76: 大型映像装置 | E76: 地下道
B77: 審判塔 | C77: 大型機器撤去 | E77: 東門入場券売場・警備員詰所
B78: サイドスタンド（アザレア） | C78: アスベスト除去 | E78: 東門トイレ
B79: 消防員詰所（倉庫） | E79: 旧集計センター横トイレ
B80: 選手宿舎 | E80: 焼却炉（正源氏プラザ付近）
B81: 新サイドスタンド・第2券売所 | E81: 選手宿舎清掃員詰所
B82: 休憩所（あずまや） | E82: 大型機器撤去
B83: メインスタンド付近湯茶接待所 | E83: アスベスト除去
B84: 選手宿舎入口警備詰所
B85: 南門入場券売場
B86: 敢闘門渡り廊下
B87: 管理人宿直室
B88: サービスセンター
B89: 旧正門横食堂
...

Sheet F.細目別内訳
B1: ステップ1 細目別内訳 | H1: =E.科目!$F$208+1 -> 15
B2: 1-1正源氏プラザ改修 | D2: 改修工事
B4: 名 称 | C4: 摘 要 | D4: 数 量 | E4: 単 位 | F4: 単 価 | G4: 金 額 | H4: 備 考
B6: <1階食堂､厨房機
B7: 能改修>
B9: 仮設 | C9: 養生･足場･清掃
E11: ㎡
B12: 撤去 | C12: 天井
E14: ㎡
B15: 改修 | C15: 天井
E17: ㎡
B18: 改修 | C18: ｸﾘｰﾆﾝｸﾞ
E20: ㎡
B21: 改修 | C21: 電気設備
D22: 1
E23: 式
B24: 仮設 | C24: 仮設空調設備(ﾘｰｽ)
D25: 1
E26: 式
B27: <投票所機能改修､
B28: 投票所前ﾌｧﾝｴﾘｱ改
B29: 修>
B30: 仮設 | C30: 養生･足場･清掃
E32: ㎡
B33: 撤去 | C33: 天井
E35: ㎡
B36: 改修 | C36: 天井
E38: ㎡
B39: 改修 | C39: 床
E41: ㎡
B42: 改修 | C42: ｸﾘｰﾆﾝｸﾞ
E44: ㎡
B45: 改修 | C45: 電気設備
D46: 1
E47: 式
B48: 仮設 | C48: 仮設空調設備(ﾘｰｽ)
D49: 1
E50: 式
B52: ステップ1 細目別内訳 | H52: =$H1+1 -> 16
B53: 1-1正源氏プラザ改修 | D53: 改修工事
...

Sheet G.細目別内訳 (2)
B1: 共通費 細目別内訳 | H1: =F.細目別内訳!$H$818+1 -> 32
B2: 共通仮設費
B4: 名 称 | C4: 摘 要 | D4: 数 量 | E4: 単 位 | F4: 単 価 | G4: 金 額 | H4: 備 考
B9: 準備費
D10: 1
E11: 式
B12: 仮設建物
D13: 1
E14: 式
B15: 工事施設
D16: 1
E17: 式
B18: 機械器具
D19: 1
E20: 式
B21: 電力用水
D22: 1
E23: 式
B24: 環境安全
D25: 1
E26: 式
B27: 整理清掃
D28: 1
E29: 式
B30: 運 搬
D31: 1
E32: 式
B33: その他
D34: 1
E35: 式
B37: ※ステップ区分表の「ステップ」に合わせて記載する。
B40: ※原則、設計図書より数量を算出し計上すること。
B43: ※下記項目についても数量を計上すること。
B45: 仮囲い、工事ゲート
B46: 敷き鉄板、騒音振動計
B47: 交通誘導員、揚重機
B48: 計
B52: 共通費 細目別内訳 | H52: =$H1+1 -> 33
B53: 現場管理費
B55: 名 称 | C55: 摘 要 | D55: 数 量 | E55: 単 位 | F55: 単 価 | G55: 金 額 | H55: 備 考
...
